BEGIN:VCALENDAR
VERSION:2.0
PRODID:-//Institute of Chartered Accountants in Malawi - ECPv6.15.20//NONSGML v1.0//EN
CALSCALE:GREGORIAN
METHOD:PUBLISH
X-ORIGINAL-URL:https://www.icam.mw
X-WR-CALDESC:Events for Institute of Chartered Accountants in Malawi
REFRESH-INTERVAL;VALUE=DURATION:PT1H
X-Robots-Tag:noindex
X-PUBLISHED-TTL:PT1H
BEGIN:VTIMEZONE
TZID:Europe/Helsinki
BEGIN:DAYLIGHT
TZOFFSETFROM:+0200
TZOFFSETTO:+0300
TZNAME:EEST
DTSTART:20200329T010000
END:DAYLIGHT
BEGIN:STANDARD
TZOFFSETFROM:+0300
TZOFFSETTO:+0200
TZNAME:EET
DTSTART:20201025T010000
END:STANDARD
BEGIN:DAYLIGHT
TZOFFSETFROM:+0200
TZOFFSETTO:+0300
TZNAME:EEST
DTSTART:20210328T010000
END:DAYLIGHT
BEGIN:STANDARD
TZOFFSETFROM:+0300
TZOFFSETTO:+0200
TZNAME:EET
DTSTART:20211031T010000
END:STANDARD
BEGIN:DAYLIGHT
TZOFFSETFROM:+0200
TZOFFSETTO:+0300
TZNAME:EEST
DTSTART:20220327T010000
END:DAYLIGHT
BEGIN:STANDARD
TZOFFSETFROM:+0300
TZOFFSETTO:+0200
TZNAME:EET
DTSTART:20221030T010000
END:STANDARD
END:VTIMEZONE
BEGIN:VEVENT
DTSTART;VALUE=DATE:20211022
DTEND;VALUE=DATE:20211024
DTSTAMP:20260421T175858
CREATED:20210610T131749Z
LAST-MODIFIED:20210702T064303Z
UID:3608-1634860800-1635033599@www.icam.mw
SUMMARY:PROFESSIONAL WOMEN'S CONFERENCE NKOPOLA - MANGOCHI
DESCRIPTION:Overview \nThis event is for women  only \nCPD Hours: \n23 – 23 OCTOBER 2021 \nParticipants will be awarded 8 hours of CPD upon full time attendance. \nFees: Members in good standing – TBA \nNon Members  and members not in good standing–  TBA
URL:https://www.icam.mw/icam-event/professional-womens-conference-nkopola-mangochi/
CATEGORIES:Events
END:VEVENT
END:VCALENDAR